BEGIN:VCALENDAR
VERSION:2.0
METHOD:PUBLISH
PRODID:https://campus.havelhoehe.de
BEGIN:VEVENT
UID:177678853841351@https://campus.havelhoehe.de
DTSTART:20210219T180000Z
DURATION:PT1H
ORGANIZER:CN=Campus Havelhöhe
LOCATION:Link zum Vortrag: https://havelhoehe-de.zoom.us/j/99294757668?pwd=aC9pMUV3VWVGTVpEVzhpSk45aGZJQT09 Sie möchten die Arbeit des Gesundheitsforums unterstützen? Wir freuen uns über Ihre Spende an: GLS Gemeinschaftsbank, IBAN: DE57 4306 0967 0025 6786 02
SUMMARY:Online-Vortrag: Wie geht es der Gesundheit der Erde und der Menschen? Warum Klimaschutz für die Gesundheit heute für jeden Menschen wichtig ist und was jeder tun kann. Über "Mehr erfahren" werden Sie direkt zum Vortrag geleitet.
DESCRIPTION:Dr. Christian Grah, Leitender Arzt Pneumologie und Lungenkrebszentrum, GKH, https://havelhoehe-de.zoom.us/j/99294757668?pwd=aC9pMUV3VWVGTVpEVzhpSk45aGZJQT09
END:VEVENT
END:VCALENDAR