BEGIN:VCALENDAR
VERSION:2.0
METHOD:PUBLISH
PRODID:https://campus.havelhoehe.de
BEGIN:VEVENT
UID:177678853811485@https://campus.havelhoehe.de
DTSTART:20210226T180000Z
DURATION:PT1H
ORGANIZER:CN=Campus Havelhöhe
LOCATION:Zoom-Link: https://havelhoehe-de.zoom.us/j/92094949038?pwd=OXh6d0FBaThQNDZNOUkyVkFWZEVrQT09 Sie möchten die Arbeit des Gesundheitsforums unterstützen? Wir freuen uns über Ihre Spende an: GLS Gemeinschaftsbank, IBAN: DE57 4306 0967 0025 6786 02
SUMMARY:Online-Vortrag: Auswirkungen der Corona-Pandemie auf Kinder Über "Mehr erfahren" kommen Sie direkt zum Vortrag.
DESCRIPTION:Dr. Christoph Meinecke, FA für Kinder- und Jugendmedizin, https://havelhoehe-de.zoom.us/j/92094949038?pwd=OXh6d0FBaThQNDZNOUkyVkFWZEVrQT09
END:VEVENT
END:VCALENDAR