BEGIN:VCALENDAR
VERSION:2.0
METHOD:PUBLISH
PRODID:https://campus.havelhoehe.de
BEGIN:VEVENT
UID:177678853937767@https://campus.havelhoehe.de
DTSTART:20210212T180000Z
DURATION:PT1H
ORGANIZER:CN=Campus Havelhöhe
LOCATION:Zoom-Meeting beitreten: https://havelhoehe-de.zoom.us/j/91236542752?pwd=K2JUT2JwQkJNWlVXRC96MlVJcHR6UT09 Sie möchten die Arbeit des Gesundheitsforums unterstützen? Wir freuen uns über Ihre Spende an: GLS Gemeinschaftsbank, IBAN: DE57 4306 0967 0025 6786 02
SUMMARY:Online-Vortrag: Was wir durch SARS-CoV2 lernen können? Über den Button "mehr erfahren" werden Sie direkt zum Vortrag geleitet.
DESCRIPTION:Prof. Dr. Harald Matthes, Leitender Arzt der Gastroenterologie, Ärztlicher Leiter des GKH, https://havelhoehe-de.zoom.us/j/91236542752?pwd=K2JUT2JwQkJNWlVXRC96MlVJcHR6UT09
END:VEVENT
END:VCALENDAR