BEGIN:VCALENDAR
VERSION:2.0
METHOD:PUBLISH
PRODID:https://campus.havelhoehe.de
BEGIN:VEVENT
UID:177660542640366@https://campus.havelhoehe.de
DTSTART:20230421T170000Z
DURATION:PT1H
ORGANIZER:CN=Campus Havelhöhe
LOCATION:Gesundheitsforum Havelhöhe, Saal im Haus 28, Campus Havelhöhe, Kladower Damm 221, 14089 Berlin
SUMMARY:Was und wie wirken die Therapien in der Anthroposophischen Medizin und Integrativen Medizin?
DESCRIPTION:Prof. Dr. med. Harald Matthes, Ärztlicher Leiter und Geschäftsführer, GKH, https://campus.havelhoehe.de/media/gesundheitsforum_programm_1._halbjahr_2023.pdf
END:VEVENT
END:VCALENDAR