BEGIN:VCALENDAR
VERSION:2.0
METHOD:PUBLISH
PRODID:https://campus.havelhoehe.de
BEGIN:VEVENT
UID:177660542537084@https://campus.havelhoehe.de
DTSTART:20230311T090000Z
DURATION:PT1H
ORGANIZER:CN=Campus Havelhöhe
LOCATION:
SUMMARY:FÄLLT LEIDER AUS Wurzelkräfte – Herzheilung Ein Schreibritual
DESCRIPTION:An den alten Wurzeln der Zeit ruht der Schatz … Heben wir ihn! Diese schöpferische Winter Werkstatt ist Balsam für Seele, Geist und Körper, ist Muße und Nahrung. Herzmeditationen und die Poesie des verbundenen Atems lassen achtsam spüren, wer wir im großen Lebensreigen wahrhaftig sind. In der Ruhe des Winters nähren wir unsere kostbaren Herzens- und Wurzelkräfte, um unseren schönen Seelenschatz zu heben und das Erwachen des unerschöpflich schönen Lebens im Frühling mit offenen Armen zu begrüßen., Leitung: Dr. phil. Heidrun Adriana Bomke, Poesie des Lebens, Lesungen, Schreibbegleitung, Lebensberatung und Atemarbeit www.heidrunbomke.de, info@heidrunbomke.de
END:VEVENT
END:VCALENDAR