BEGIN:VCALENDAR
VERSION:2.0
METHOD:PUBLISH
PRODID:https://campus.havelhoehe.de
BEGIN:VEVENT
UID:177660537951059@https://campus.havelhoehe.de
DTSTART:20230319T100000Z
DURATION:PT1H
ORGANIZER:CN=Campus Havelhöhe
LOCATION:Saal im Haus 28, Campus Havelhöhe, Kladower Damm 221, 14089 Berlin
SUMMARY:„Von Herzen – Möge es wieder – zu Herzen gehen!“, Ronny Kaufhold
DESCRIPTION:
END:VEVENT
END:VCALENDAR