BEGIN:VCALENDAR
VERSION:2.0
METHOD:PUBLISH
PRODID:https://campus.havelhoehe.de
BEGIN:VEVENT
UID:177660538028621@https://campus.havelhoehe.de
DTSTART:20230305T100000Z
DURATION:PT1H
ORGANIZER:CN=Campus Havelhöhe
LOCATION:
SUMMARY:Ein Trio, das sich FOUR nennt - nach einem Song von Miles Davis, Trio Four: Lutz Wolf (Trompete, Flügelhorn, Gesang) + Oliver Fach (Gitarre, Gesang) + Tobias Rösch (Kontrabass, Gesang)
DESCRIPTION:Saal im Haus 28, Campus Havelhöhe, Kladower Damm 221, 14089 Berlin
END:VEVENT
END:VCALENDAR