BEGIN:VCALENDAR
VERSION:2.0
METHOD:PUBLISH
PRODID:https://campus.havelhoehe.de
BEGIN:VEVENT
UID:177663868258520@https://campus.havelhoehe.de
DTSTART:20230219T100000Z
DURATION:PT1H
ORGANIZER:CN=Campus Havelhöhe
LOCATION:Saal im Haus 28, Campus Havelhöhe, Kladower Damm 221, 14089 Berlin
SUMMARY:Vierhändige Klavierimprovisationen über Naturbilder und Gedanken, PianoManie: Susanne Unger (Klavier) + Sabine Zimmer (Klavier)
DESCRIPTION:
END:VEVENT
END:VCALENDAR