BEGIN:VCALENDAR
VERSION:2.0
METHOD:PUBLISH
PRODID:https://campus.havelhoehe.de
BEGIN:VEVENT
UID:177663868214751@https://campus.havelhoehe.de
DTSTART:20230205T100000Z
DURATION:PT1H
ORGANIZER:CN=Campus Havelhöhe
LOCATION:Saal im Haus 28, Campus Havelhöhe, Kladower Damm 221, 14089 Berlin
SUMMARY:Musik aus verschiedenen Epochen und Kulturen, Tamara Roy-Iynda (Flötistin) und Aleksandra Martsynchyk (Pianistin)
DESCRIPTION:
END:VEVENT
END:VCALENDAR