BEGIN:VCALENDAR
VERSION:2.0
METHOD:PUBLISH
PRODID:https://campus.havelhoehe.de
BEGIN:VEVENT
UID:177664516184643@https://campus.havelhoehe.de
DTSTART:20230122T100000Z
DURATION:PT1H
ORGANIZER:CN=Campus Havelhöhe
LOCATION:Saal im Haus 28, Campus Havelhöhe, Kladower Damm 221, 14089 Berlin
SUMMARY:PIPPO MILLER - Jazz, Brasilianische Musik, Kunstlied, Die leidenschaftliche Verschmelzung zweier Musiker Generationen, verschiedener Kulturen, Klänge, Ideen, Genres, Italien-Sehnsucht und gelebter deutscher Realität. Typisch Berlin eben. Et voilà!
DESCRIPTION:Pippo Miller: Lutz Wolf (Flügelhorn, Gesang, Komposition) + Pier Paolo Bertoli (Akkordeon, Gesang, Komposition)
END:VEVENT
END:VCALENDAR