BEGIN:VCALENDAR
VERSION:2.0
METHOD:PUBLISH
PRODID:https://campus.havelhoehe.de
BEGIN:VEVENT
UID:177664519195490@https://campus.havelhoehe.de
DTSTART:20230108T100000Z
DURATION:PT1H
ORGANIZER:CN=Campus Havelhöhe
LOCATION:Saal im Haus 28, Campus Havelhöhe, Kladower Damm 221, 14089 Berlin
SUMMARY:KeineBrüderTrio, Straßenmusik
DESCRIPTION:Matthias Pasdzierny (Kontrabass/Gesang) + Martin Pehe (Gitarre/Cajon/Gesang) + André Weber (Gitarre/Gesang)
END:VEVENT
END:VCALENDAR