BEGIN:VCALENDAR
VERSION:2.0
METHOD:PUBLISH
PRODID:https://campus.havelhoehe.de
BEGIN:VEVENT
UID:177665137056704@https://campus.havelhoehe.de
DTSTART:20221226T100000Z
DURATION:PT1H
ORGANIZER:CN=Campus Havelhöhe
LOCATION:Saal im Haus 28, Campus Havelhöhe, Kladower Damm 221, 14089 Berlin
SUMMARY:Ukrainische KünstlerInnen gestalten ein Weihnachtskonzert mit verschiedenen Instrumenten
DESCRIPTION:
END:VEVENT
END:VCALENDAR