BEGIN:VCALENDAR
VERSION:2.0
METHOD:PUBLISH
PRODID:https://campus.havelhoehe.de
BEGIN:VEVENT
UID:177664519144333@https://campus.havelhoehe.de
DTSTART:20230127T180000Z
DURATION:PT1H
ORGANIZER:CN=Campus Havelhöhe
LOCATION:Gesundheitsforum Havelhöhe, Saal im Haus 28, Campus Havelhöhe, Kladower Damm 221, 14089 Berlin
SUMMARY:Auch in schwierigen Zeiten Hoffnung und Zuversicht nicht verlieren
DESCRIPTION:Dr. med. Wilfried ReuterArzt und Buddhistischer Lehrer, Berlin
END:VEVENT
END:VCALENDAR