BEGIN:VCALENDAR
VERSION:2.0
METHOD:PUBLISH
PRODID:https://campus.havelhoehe.de
BEGIN:VEVENT
UID:177664516198808@https://campus.havelhoehe.de
DTSTART:20230120T180000Z
DURATION:PT1H
ORGANIZER:CN=Campus Havelhöhe
LOCATION:Gesundheitsforum Havelhöhe, Saal im Haus 28, Campus Havelhöhe, Kladower Damm 221, 14089 Berlin
SUMMARY:Chronischer Schmerz und wie wir ihm begegnen können
DESCRIPTION:Dr. med. Nina Klinger, FÄ für Allgemeinmedizin,Psychotherapie, Anthroposophische Medizin (GAÄD)Oberärztin und Leiterin Integrative Schmerz-/ Suchtmedizin, GKH
END:VEVENT
END:VCALENDAR