BEGIN:VCALENDAR
VERSION:2.0
METHOD:PUBLISH
PRODID:https://campus.havelhoehe.de
BEGIN:VEVENT
UID:177665143295236@https://campus.havelhoehe.de
DTSTART:20221218T100000Z
DURATION:PT1H
ORGANIZER:CN=Campus Havelhöhe
LOCATION:Saal im Haus 28, Campus Havelhöhe, Kladower Damm 221, 14089 Berlin
SUMMARY:Thomas Loefke, Keltische Harfe und Lichtbilder
DESCRIPTION:
END:VEVENT
END:VCALENDAR