BEGIN:VCALENDAR
VERSION:2.0
METHOD:PUBLISH
PRODID:https://campus.havelhoehe.de
BEGIN:VEVENT
UID:177665143289594@https://campus.havelhoehe.de
DTSTART:20221216T180000Z
DURATION:PT1H
ORGANIZER:CN=Campus Havelhöhe
LOCATION:Gesundheitsforum Havelhöhe, Saal im Haus 28, Campus Havelhöhe, Kladower Damm 221, 14089 Berlin
SUMMARY:„Herzstimmen“ Liebe fühlen – Heiliges berühren
DESCRIPTION:Dr. phil. Heidrun Bomke, Dichterin, Lebensreisebegleiterin, Berlin Kateryna Korobova, Musiktherapeutin, Waldorflehrerin, Berlin
END:VEVENT
END:VCALENDAR