BEGIN:VCALENDAR
VERSION:2.0
METHOD:PUBLISH
PRODID:https://campus.havelhoehe.de
BEGIN:VEVENT
UID:177665146234290@https://campus.havelhoehe.de
DTSTART:20221209T180000Z
DURATION:PT1H
ORGANIZER:CN=Campus Havelhöhe
LOCATION:Gesundheitsforum Havelhöhe, Saal im Haus 28, Campus Havelhöhe, Kladower Damm 221, 14089 Berlin
SUMMARY:Wie entwickelt sich Vertrauen in die Medizin?
DESCRIPTION:Dr. Matthias Girke, Leiter der Medizinischen Sektion, Schweiz
END:VEVENT
END:VCALENDAR