BEGIN:VCALENDAR
VERSION:2.0
METHOD:PUBLISH
PRODID:https://campus.havelhoehe.de
BEGIN:VEVENT
UID:177665146281441@https://campus.havelhoehe.de
DTSTART:20221202T180000Z
DURATION:PT1H
ORGANIZER:CN=Campus Havelhöhe
LOCATION:Gesundheitsforum Havelhöhe, Saal im Haus 28, Campus Havelhöhe, Kladower Damm 221, 14089 Berlin
SUMMARY:„Du arme Seele, was ist mit dir nur geschehen?“, Märchen vom Leben, vom Tod und vom Schicksal
DESCRIPTION:Doris Rauschert, Geschichten- und Bibelerzählerin,Heilpraktikerin mit anthroposophischem Schwerpunkt, Berlin
END:VEVENT
END:VCALENDAR