BEGIN:VCALENDAR
VERSION:2.0
METHOD:PUBLISH
PRODID:https://campus.havelhoehe.de
BEGIN:VEVENT
UID:177665756033597@https://campus.havelhoehe.de
DTSTART:20221125T180000Z
DURATION:PT1H
ORGANIZER:CN=Campus Havelhöhe
LOCATION:Gesundheitsforum Havelhöhe, Saal im Haus 24 (Herzschule), Campus Havelhöhe, Kladower Damm 221, 14089 Berlin
SUMMARY:Erholsamer und nicht erholsamer Schlaf, Bedeutung für Gesundheit und Wohlbefinden
DESCRIPTION:PD Dr. med. Matthias Kröz, Facharzt für Innere Medizin und Schlafmedizin, Leitung Forschung, Klinik Arlesheim, Schweiz Dieser Vortrag findet mit freundlicher Unterstützung der BKK VBU statt.
END:VEVENT
END:VCALENDAR