BEGIN:VCALENDAR
VERSION:2.0
METHOD:PUBLISH
PRODID:https://campus.havelhoehe.de
BEGIN:VEVENT
UID:177665759861363@https://campus.havelhoehe.de
DTSTART:20221111T180000Z
DURATION:PT1H
ORGANIZER:CN=Campus Havelhöhe
LOCATION:Gesundheitsforum Havelhöhe, Saal im Haus 28, Campus Havelhöhe, Kladower Damm 221, 14089 Berlin
SUMMARY:Von den Bienen zum Honig und seinen medizinischen Anwendungen
DESCRIPTION:Dr. med. Uwe Schulze, Facharzt für Innere Medizin und Kardiologie, Vivantes Berlin, Hobbyimke und Dr. med. Roland Zerm, Leiter der Geriatrie und Oberarzt Diabetologie, GKH, Dieser Vortrag findet mit freundlicher Unterstützung der BKK VBU statt
END:VEVENT
END:VCALENDAR