BEGIN:VCALENDAR
VERSION:2.0
METHOD:PUBLISH
PRODID:https://campus.havelhoehe.de
BEGIN:VEVENT
UID:177667442520449@https://campus.havelhoehe.de
DTSTART:20220918T090000Z
DURATION:PT1H
ORGANIZER:CN=Campus Havelhöhe
LOCATION:Saal im Haus 28, Campus Havelhöhe, Kladower Damm 221, 14089 Berlin
SUMMARY:DUO FINESCO, Spätsommerliche Musik" Flamenco - Tango - Spanische Klassik - Swing - Klezmer
DESCRIPTION:Erleben Sie die musikalische Vielfalt des Duos mit Flamenco, spanischer Klassik, argentinischem Tango, Klezmer und Swing. Die beiden Musiker haben einen besonderen unverwechselbaren Stil entwickelt mit eigenen Interpretationen von Flamencostücken wie Guajira und Buleria, spanischer Klassik von Enrique Grandaos und Isaac Albèniz, argentinischem Tango von Astor Piazzolla, Swingstücke von Django Reinhard, Klezmer und eigenen Kompositionen. Unvergesslich und abwechslungsreich, Juliane Winkler - Violine, Christof Schill - FlamencogitarreWir halten uns an die gültige SARS-CoV-2-Infektionsschutzmaßnahmenverordnung.
END:VEVENT
END:VCALENDAR