BEGIN:VCALENDAR
VERSION:2.0
METHOD:PUBLISH
PRODID:https://campus.havelhoehe.de
BEGIN:VEVENT
UID:177665765071162@https://campus.havelhoehe.de
DTSTART:20221104T180000Z
DURATION:PT1H
ORGANIZER:CN=Campus Havelhöhe
LOCATION:Gesundheitsforum Havelhöhe, Saal im Haus 28, Campus Havelhöhe, Kladower Damm 221, 14089 Berlin
SUMMARY:Vom Sinn der Todeskräfte in unserem Leben, Leben als produktive Sterbeübung
DESCRIPTION:Nils Cooper, Pfarrer der Christengemeinschaft, BerlinWir halten uns an die gültige SARS-CoV-2-Infektionsschutzmaßnahmenverordnung.
END:VEVENT
END:VCALENDAR