BEGIN:VCALENDAR
VERSION:2.0
METHOD:PUBLISH
PRODID:https://campus.havelhoehe.de
BEGIN:VEVENT
UID:177666493120319@https://campus.havelhoehe.de
DTSTART:20221028T170000Z
DURATION:PT1H
ORGANIZER:CN=Campus Havelhöhe
LOCATION:Gesundheitsforum Havelhöhe, Saal im Haus 28, Campus Havelhöhe, Kladower Damm 221, 14089 Berlin
SUMMARY:Wie überwinde ich Erschöpfung, Burn-out und ein Post-Covid-Syndrom?, Und was hilft mir, mein Immunsystem zu stärken?
DESCRIPTION:Dr. med. Sabine Schäfer, Fachärztin für Allgemeinmedizin, Anthroposophische Medizin GAÄD, Ernährungsmedizin DGEM/DAEM, Berlin , Wir halten uns an die gültige SARS-CoV-2-Infektionsschutzmaßnahmenverordnung.
END:VEVENT
END:VCALENDAR