BEGIN:VCALENDAR
VERSION:2.0
METHOD:PUBLISH
PRODID:https://campus.havelhoehe.de
BEGIN:VEVENT
UID:177666505681676@https://campus.havelhoehe.de
DTSTART:20221021T170000Z
DURATION:PT1H
ORGANIZER:CN=Campus Havelhöhe
LOCATION:Gesundheitsforum Havelhöhe, Musiktherapiesaal in Haus 24, Campus Havelhöhe, Kladower Damm 221, 14089 Berlin
SUMMARY:+++FÄLLT LEIDER AUS+++ Chronische Fatigue, Eine diagnostische und therapeutische Herausforderung!
DESCRIPTION:PD Dr. med. Patricia Grabowski, Oberärztin Onkologie und Palliativmedizin, GKH
END:VEVENT
END:VCALENDAR