BEGIN:VCALENDAR
VERSION:2.0
METHOD:PUBLISH
PRODID:https://campus.havelhoehe.de
BEGIN:VEVENT
UID:177665753065605@https://campus.havelhoehe.de
DTSTART:20221118T180000Z
DURATION:PT1H
ORGANIZER:CN=Campus Havelhöhe
LOCATION:Gesundheitsforum Havelhöhe, Musiktherapiesaal in Haus 24, Campus Havelhöhe, Kladower Damm 221, 14089 Berlin
SUMMARY:Brustkrebs verhindern – das Risiko für ein Wiederauftreten verringern., Was kann ich selbst tun?
DESCRIPTION:Dr. med. Jessica Groß, Leiterin Brustzentrum, GKHWir halten uns an die gültige SARS-CoV-2-Infektionsschutzmaßnahmenverordnung.
END:VEVENT
END:VCALENDAR