BEGIN:VCALENDAR
VERSION:2.0
METHOD:PUBLISH
PRODID:https://campus.havelhoehe.de
BEGIN:VEVENT
UID:177666499589468@https://campus.havelhoehe.de
DTSTART:20221014T170000Z
DURATION:PT1H
ORGANIZER:CN=Campus Havelhöhe
LOCATION:Gesundheitsforum Havelhöhe, Familienforum, Campus Havelhöhe, Kladower Damm 221, 14089 Berlin
SUMMARY:Wärmende Stärkung von Innen, Öldispersionsbäder bei Long Covid und Corona Erkrankungen
DESCRIPTION:Dörte Averdunk, Öldispersionsbadetherapeutin und Heilpraktikerin, Berlin
END:VEVENT
END:VCALENDAR