BEGIN:VCALENDAR
VERSION:2.0
METHOD:PUBLISH
PRODID:https://campus.havelhoehe.de
BEGIN:VEVENT
UID:177666497826657@https://campus.havelhoehe.de
DTSTART:20221007T170000Z
DURATION:PT1H
ORGANIZER:CN=Campus Havelhöhe
LOCATION:Gesundheitsforum Havelhöhe, Saal im Haus 28, Campus Havelhöhe, Kladower Damm 221, 14089 Berlin
SUMMARY:Die Bedeutung der Christrose in der Geriatrie und Onkologie
DESCRIPTION:Dr. med. Johannes Wilkens, Ärztlicher Direktor der Alexander von Humboldt Klinik, Bad Steben, (Wir halten uns an die gültige SARS-CoV-2-Infektionsschutzmaßnahmenverordnung.)
END:VEVENT
END:VCALENDAR