BEGIN:VCALENDAR
VERSION:2.0
METHOD:PUBLISH
PRODID:https://campus.havelhoehe.de
BEGIN:VEVENT
UID:177667570220967@https://campus.havelhoehe.de
DTSTART:20220930T170000Z
DURATION:PT1H
ORGANIZER:CN=Campus Havelhöhe
LOCATION:Gesundheitsforum Havelhöhe, Saal im Haus 28, Campus Havelhöhe, Kladower Damm 221, 14089 Berlin
SUMMARY:Verwandeln? Von der Angst zur seelischen Wärme
DESCRIPTION:Dr. med. Mechtild Bischof, Praxis für Gynäkologie und Geburtshilfe, Psychotherapeutin, Berlin, Dieser Vortrag findet mit der freundlichen Unterstützung der BKK VBU statt., (Wir halten uns an die gültige SARS-CoV-2-Infektionsschutzmaßnahmenverordnung.)
END:VEVENT
END:VCALENDAR