BEGIN:VCALENDAR
VERSION:2.0
METHOD:PUBLISH
PRODID:https://campus.havelhoehe.de
BEGIN:VEVENT
UID:177665761317766@https://campus.havelhoehe.de
DTSTART:20221120T100000Z
DURATION:PT1H
ORGANIZER:CN=Campus Havelhöhe
LOCATION:Saal im Haus 28, Campus Havelhöhe, Kladower Damm 221, 14089 Berlin
SUMMARY:Klaviermusik für 2 und 4 Hände, Potpourri kurzer Stücke und Improvisationen (Klassik, Impressionismus, Jazz und Moderne)
DESCRIPTION:Rosa Roth und Sabine Zimmer
END:VEVENT
END:VCALENDAR