BEGIN:VCALENDAR
VERSION:2.0
METHOD:PUBLISH
PRODID:https://campus.havelhoehe.de
BEGIN:VEVENT
UID:177665753045748@https://campus.havelhoehe.de
DTSTART:20221113T150000Z
DURATION:PT1H
ORGANIZER:CN=Campus Havelhöhe
LOCATION:Saal im Haus 28, Campus Havelhöhe, Kladower Damm 221, 14089 Berlin
SUMMARY:Berliner Märchentage, auch in Havelhöhe
DESCRIPTION:Es erzählt: Doris Rauschert / Musik Christof Schill
END:VEVENT
END:VCALENDAR