BEGIN:VCALENDAR
VERSION:2.0
METHOD:PUBLISH
PRODID:https://campus.havelhoehe.de
BEGIN:VEVENT
UID:177665759819522@https://campus.havelhoehe.de
DTSTART:20221106T100000Z
DURATION:PT1H
ORGANIZER:CN=Campus Havelhöhe
LOCATION:Saal im Haus 28, Campus Havelhöhe, Kladower Damm 221, 14089 Berlin
SUMMARY:Musik aus verschiedenen Kulturen und Epochen
DESCRIPTION:Alexandra Martincik - Piano und Tamara Roy-Lynde – Querflöte
END:VEVENT
END:VCALENDAR