BEGIN:VCALENDAR
VERSION:2.0
METHOD:PUBLISH
PRODID:https://campus.havelhoehe.de
BEGIN:VEVENT
UID:177666493161897@https://campus.havelhoehe.de
DTSTART:20221015T080000Z
DURATION:PT1H
ORGANIZER:CN=Campus Havelhöhe
LOCATION:Akademie Havelhöhe, Haus 24, Campus Havelhöhe, Kladower Damm 221, 14089 Berlin
SUMMARY:Wickel und Auflagen, Zur Selbstpflege und Stressbewältigung für alle
DESCRIPTION:Gerade wenn ein Virus grassiert, das so wenig einzuschätzen ist, möchte man möglichst gut aufgestellt sein, was die eigene Konstitution betrifft. Hier können Sie etwas für Ihr Immunsystem und damit auch für Ihre Resilienz tun - kräftigen Sie sich in verschiedenen Anwendungen mithilfe natürlicher Substanzen., Der Antrag auf Anerkennung als Bildungsurlaub durch den Berliner Senat läuft., https://www.akademie-havelhoehe.de/angebot-details/stressbewaeltigung-und-selbstpflege.html
END:VEVENT
END:VCALENDAR