BEGIN:VCALENDAR
VERSION:2.0
METHOD:PUBLISH
PRODID:https://campus.havelhoehe.de
BEGIN:VEVENT
UID:177667130036762@https://campus.havelhoehe.de
DTSTART:20220903T070000Z
DURATION:PT1H
ORGANIZER:CN=Campus Havelhöhe
LOCATION:Akademie Havelhöhe, Haus 24, Campus Havelhöhe, Kladower Damm 221, 14089 Berlin
SUMMARY:Spiritual Care
DESCRIPTION:Die Spiritualität ist eine wichtige Ressource, um schwierige Lebenssituationen besser zu bewältigen, darin sind sich therapeutisch Tätige einig – und werden durch die Forschung bestätigt. Dies trifft insbesondere für die palliative Begleitung Schwerkranker zu.Das Thema Spiritualität wird im Krankenhausalltag aus Zeitmangel leider kaum beachtet. Viele Helfende möchten es ansprechen, sie fühlen sich aber nicht kompetent genug dazu. Um dies zu ändern, möchten wir Sie herzlich einladen, an unserem niederschwelligen, multiprofessionellen Spiritual Care Einführungsmodul teilzunehmen. Wir bieten es fachübergreifend für Personen aus den Gesundheitsberufen an., Samstag und Sonntag, 3./4.9., 9 – 20.30 Uhr, https://www.akademie-havelhoehe.de/angebot-details/spiritual-care.html
END:VEVENT
END:VCALENDAR