BEGIN:VCALENDAR
VERSION:2.0
METHOD:PUBLISH
PRODID:https://campus.havelhoehe.de
BEGIN:VEVENT
UID:177667130068880@https://campus.havelhoehe.de
DTSTART:20220910T080000Z
DURATION:PT1H
ORGANIZER:CN=Campus Havelhöhe
LOCATION:Familienforum, Campus Havelhöhe, Kladower Damm 221, 14089 Berlin
SUMMARY:Standkraft und Bodenhaftung, ​Durch bewusstes Gehen und Barfußlaufen dem Weg und den eigenen Füßen mehr Aufmerksamkeit schenken. Dieses
DESCRIPTION:Angebot der Wahrnehmungsschulung richtet sich an alle, die sich für ganzheitliche Belebung durch einfachste Maßnahmen begeistern. Einbezogen werden das Labyrinth und der Barfußpfad auf dem Krankenhausgelände. , Zeit: Sa. 10.9. von 10–13 Uhr Ort: Familienforum Gebühr: 48,– € Leitung: Marei Konow, Atem - therapeutin und Heilpraktikerin
END:VEVENT
END:VCALENDAR