BEGIN:VCALENDAR
VERSION:2.0
METHOD:PUBLISH
PRODID:https://campus.havelhoehe.de
BEGIN:VEVENT
UID:177667451262829@https://campus.havelhoehe.de
DTSTART:20220924T080000Z
DURATION:PT1H
ORGANIZER:CN=Campus Havelhöhe
LOCATION:Saal im Haus 28, Campus Havelhöhe, Kladower Damm 221, 14089 BerlinWir halten uns an die gültige SARS-CoV-2-Infektionsschutzmaßnahmenverordnung.
SUMMARY:Bothmer Gymnastik – ein Weg, der Räume aufmacht für eine neue Beziehung zum eigenen Körper und dem Umraum
DESCRIPTION:In der Erwachsenenbildung steht Bothmer® Gymnastik vor allem für Freude an Bewegung, präsent sein, das eigene Schicksal in die Hand nehmen, ein neues Verhältnis zum eigenen Körper durch Bewegung aufbauen und alte Gewohnheiten und Muster aufbrechen. Dabei spielen die Raumrichtungen und wie man sich damit verbindet, eine wichtige Rolle. Bitte Sport- oder Gymnastikschuhe mitbringen. , , Leitung: Eric van Wijnen, Sportlehrer Waldorfschule Berlin, Ausbilder Sportlehrerausbildung Freiburg/ Kassel und Dozent bei BMI (Bothmer Movement Inter national) Tel.: 0179 4128596Zeit: Sa. 24.9. von 10–11.30 Uhr, 12–13.30 Uhr und 14–15 Uhr Ort: Saal, Haus 28 Gebühr: 80,– €
END:VEVENT
END:VCALENDAR