BEGIN:VCALENDAR
VERSION:2.0
METHOD:PUBLISH
PRODID:https://campus.havelhoehe.de
BEGIN:VEVENT
UID:177666499537139@https://campus.havelhoehe.de
DTSTART:20221002T090000Z
DURATION:PT1H
ORGANIZER:CN=Campus Havelhöhe
LOCATION:Saal im Haus 28, Campus Havelhöhe, Kladower Damm 221, 14089 BerlinWir halten uns an die gültige SARS-CoV-2-Infektionsschutzmaßnahmenverordnung.
SUMMARY:"Amor Che Voi ", Musik für die Seele aus Renaissance- und Frühbarock
DESCRIPTION:Sabine Loredo Silva - Gesang, Ulf Dressler - Lauten-Instrumente
END:VEVENT
END:VCALENDAR