BEGIN:VCALENDAR
VERSION:2.0
METHOD:PUBLISH
PRODID:https://campus.havelhoehe.de
BEGIN:VEVENT
UID:177667122794467@https://campus.havelhoehe.de
DTSTART:20220911T090000Z
DURATION:PT1H
ORGANIZER:CN=Campus Havelhöhe
LOCATION:Saal im Haus 28, Campus Havelhöhe, Kladower Damm 221, 14089 BerlinWir halten uns an die gültige SARS-CoV-2-Infektionsschutzmaßnahmenverordnung.
SUMMARY:Improvisationskonzert, & kurze Stücke jüdischer Komponisten, dazu einige launige und unterhaltsame Texte zum jüdischen Leben in Osteuropa
DESCRIPTION:Pianist und Moderator: Wanja Belaga
END:VEVENT
END:VCALENDAR