BEGIN:VCALENDAR
VERSION:2.0
METHOD:PUBLISH
PRODID:https://campus.havelhoehe.de
BEGIN:VEVENT
UID:177684820374097@https://campus.havelhoehe.de
DTSTART:20220925T090000Z
DURATION:PT1H
ORGANIZER:CN=Campus Havelhöhe
LOCATION:Saal im Haus 28, Campus Havelhöhe, Kladower Damm 221, 14089 BerlinWir halten uns an die gültige SARS-CoV-2-Infektionsschutzmaßnahmenverordnung.
SUMMARY:Atmen. Schöpfen. Stehen., Texte von der Genesis bis heute
DESCRIPTION:Lesung: Beate Krützkamp, Marija Ptok, Elsbeth Weymann - Musik: Stefan Heise
END:VEVENT
END:VCALENDAR