BEGIN:VCALENDAR
VERSION:2.0
METHOD:PUBLISH
PRODID:https://campus.havelhoehe.de
BEGIN:VEVENT
UID:177665761323472@https://campus.havelhoehe.de
DTSTART:20221127T100000Z
DURATION:PT1H
ORGANIZER:CN=Campus Havelhöhe
LOCATION:Saal im Haus 28, Campus Havelhöhe, Kladower Damm 221, 14089 BerlinWir halten uns an die gültige SARS-CoV-2-Infektionsschutzmaßnahmenverordnung.
SUMMARY:„Eine musikalische Zeitreise“, Musik aus West und Ost – von Barock über Klassik, Czardas, Country und Tango
DESCRIPTION:Anna Wierer – Querflöte, Maxim Shagaev – Bajan/Akkordeon
END:VEVENT
END:VCALENDAR