BEGIN:VCALENDAR
VERSION:2.0
METHOD:PUBLISH
PRODID:https://campus.havelhoehe.de
BEGIN:VEVENT
UID:177667122721256@https://campus.havelhoehe.de
DTSTART:20220904T090000Z
DURATION:PT1H
ORGANIZER:CN=Campus Havelhöhe
LOCATION:Saal im Haus 28, Campus Havelhöhe, Kladower Damm 221, 14089 BerlinWir halten uns an die gültige SARS-CoV-2-Infektionsschutzmaßnahmenverordnung.
SUMMARY:„Von Kindheit und Traumwelten“ Debussy, Liszt, Der Komponist Ferruccio Busoni im Kontext mit anderen Komponisten – u.a. Mozart
DESCRIPTION:Piano und Moderator: Viktor Nicoara
END:VEVENT
END:VCALENDAR