BEGIN:VCALENDAR
VERSION:2.0
METHOD:PUBLISH
PRODID:https://campus.havelhoehe.de
BEGIN:VEVENT
UID:177667456797560@https://campus.havelhoehe.de
DTSTART:20220916T170000Z
DURATION:PT1H
ORGANIZER:CN=Campus Havelhöhe
LOCATION:Gesundheitsforum Havelhöhe, Saal im Haus 28, Campus Havelhöhe, Kladower Damm 221, 14089 Berlin
SUMMARY:Wie man mit Biografiearbeit die eigenen Kräfte stärken kann
DESCRIPTION:Gemma Priess, Biografieberaterin, Heilpraktikerin für Psychotherapie und Seelsorgerin, BerlinWir halten uns an die gültige SARS-CoV-2-Infektionsschutzmaßnahmenverordnung.
END:VEVENT
END:VCALENDAR