BEGIN:VCALENDAR
VERSION:2.0
METHOD:PUBLISH
PRODID:https://campus.havelhoehe.de
BEGIN:VEVENT
UID:177667457320007@https://campus.havelhoehe.de
DTSTART:20220909T170000Z
DURATION:PT1H
ORGANIZER:CN=Campus Havelhöhe
LOCATION:Gesundheitsforum Havelhöhe, Saal im Haus 28, Campus Havelhöhe, Kladower Damm 221, 14089 Berlin
SUMMARY:Was ist hilfreich in der Schmerztherapie?, Über Medikamente und Heilmittelwirkungen
DESCRIPTION:Dr. med. Nina Klinger Leiterin Schmerz-/Suchtmedizin,GKHWir halten uns an die gültige SARS-CoV-2-Infektionsschutzmaßnahmenverordnung.
END:VEVENT
END:VCALENDAR