BEGIN:VCALENDAR
VERSION:2.0
METHOD:PUBLISH
PRODID:https://campus.havelhoehe.de
BEGIN:VEVENT
UID:177667456596738@https://campus.havelhoehe.de
DTSTART:20220902T170000Z
DURATION:PT1H
ORGANIZER:CN=Campus Havelhöhe
LOCATION:Gesundheitsforum Havelhöhe, Saal im Haus 28, Campus Havelhöhe, Kladower Damm 221, 14089 Berlin
SUMMARY:Vorhofflimmern und Herzrhythmusstörungen, Perspektiven einer ganzheitlichen Betrachtung
DESCRIPTION:Dr. med. Jan Guggemos, Leiter der Kardiologie, GKHWir halten uns an die gültige SARS-CoV-2-Infektionsschutzmaßnahmenverordnung.
END:VEVENT
END:VCALENDAR