BEGIN:VCALENDAR
VERSION:2.0
METHOD:PUBLISH
PRODID:https://campus.havelhoehe.de
BEGIN:VEVENT
UID:177664266636569@https://campus.havelhoehe.de
DTSTART:20220619T090000Z
DURATION:PT1H
ORGANIZER:CN=Campus Havelhöhe
LOCATION:Saal im Haus 28, Campus Havelhöhe, Kladower Damm 221, 14089 Berlin
SUMMARY:Klavier-Matinee
DESCRIPTION:Markus Wenz spielt Werke von Ludwig van Beethoven (1770-1827), Wir halten uns an die gültige SARS-CoV-2-Infektionsschutzmaßnahmenverordnung.
END:VEVENT
END:VCALENDAR