BEGIN:VCALENDAR
VERSION:2.0
METHOD:PUBLISH
PRODID:https://campus.havelhoehe.de
BEGIN:VEVENT
UID:177670556340013@https://campus.havelhoehe.de
DTSTART:20220427T063000Z
DURATION:PT1H
ORGANIZER:CN=Campus Havelhöhe
LOCATION:Akademie Havelhöhe, Haus 24, Campus Havelhöhe, Kladower Damm 221, 14089 Berlin
SUMMARY:Rhythmischen Einreibungen Stufe II, Expert:innenkurs
DESCRIPTION:Die Rhythmischen Einreibungen nach Ita Wegman und Margarethe Hauschka sind speziell für das Personal in der Gesundheits- und Krankenpflege entwickelt worden. Sie bieten die Möglichkeit einer erweiterten Pflege, bei der der Mensch als individuelles Wesen und damit in seiner Ganzheit erfasst und behandelt wird. , Die Stufe II dient der Vertiefung der Teil- und Ganzkörpereinreibungen. Neu hinzukommen Organeinreibungen, die Pentagramm-Einreibung sowie Einreibungen für alle Lebensalter insbesondere bei Kindern und Säuglingen sowie bei Demenz samt ihrer theoretischen Grundlagen., https://www.akademie-havelhoehe.de/angebot-details/rhythmische-einreibungen-stufe-ii-expertinnenkurse-3.html
END:VEVENT
END:VCALENDAR