BEGIN:VCALENDAR
VERSION:2.0
METHOD:PUBLISH
PRODID:https://campus.havelhoehe.de
BEGIN:VEVENT
UID:177671264685848@https://campus.havelhoehe.de
DTSTART:20220321T080000Z
DURATION:PT1H
ORGANIZER:CN=Campus Havelhöhe
LOCATION:Akademie Havelhöhe, Haus 24, Campus Havelhöhe, Kladower Damm 221, 14089 Berlin
SUMMARY:Palliative Care Basiskurs, Modul 1: 21.03.2022 - 25.03.2022
DESCRIPTION:Palliative Care ist ein ganzheitliches Betreuungskonzept für PatientInnen, die sich im fortgeschrittenen Stadium einer unheilbaren Erkrankung befinden und den vielschichtigen damit verbundenen Problemen. Dies erfordert eine symptomorientierte, kreative, individuelle Versorgung sowie die Auseinandersetzung mit den Themen Sterben, Tod und Trauer in geschützter Atmosphäre. , Unsere Qualifizierungsmaßnahme vermittelt Themen, die zum Grundverständnis von Palliative Care und Hospizarbeit gehören und orientiert sich vor allem an den Alltagsanforderungen., https://www.akademie-havelhoehe.de/angebot-details/palliative-care-basiskurs-757.html
END:VEVENT
END:VCALENDAR