BEGIN:VCALENDAR
VERSION:2.0
METHOD:PUBLISH
PRODID:https://campus.havelhoehe.de
BEGIN:VEVENT
UID:177670553789439@https://campus.havelhoehe.de
DTSTART:20220429T170000Z
DURATION:PT1H
ORGANIZER:CN=Campus Havelhöhe
LOCATION:Gesundheitsforum Havelhöhe, Saal im Haus 28, Campus Havelhöhe, Kladower Damm 221, 14089 Berlin
SUMMARY:Aus der Enge in die Weite – mit Sprachgestaltung in die eigene Kraft!, Stimm-, Atem-, Bewegungs- und Sprachübungen, die die Seele in den Raum weiten.
DESCRIPTION:Oliver Avianus, Therapeutischer Sprachgestalter, GKH, Einlass erfolgt mit Nachweis eines aktuellen negativen Schnelltests (max. 24 Stunden alt), auch wenn man genesen oder geimpft ist. Das Kladow Fitness Center hat von 10 – 18 Uhr auf und macht kostenlose Bürgerschnelltests, Dieser Vortrag findet mit freundlicher Unterstützung der BKK VBU statt., https://campus.havelhoehe.de/institutionen/gesundheitsforum-havelhoehe/
END:VEVENT
END:VCALENDAR