BEGIN:VCALENDAR
VERSION:2.0
METHOD:PUBLISH
PRODID:https://campus.havelhoehe.de
BEGIN:VEVENT
UID:177670553739436@https://campus.havelhoehe.de
DTSTART:20220422T170000Z
DURATION:PT1H
ORGANIZER:CN=Campus Havelhöhe
LOCATION:Gesundheitsforum Havelhöhe, Saal im Haus 28, Campus Havelhöhe, Kladower Damm 221, 14089 Berlin
SUMMARY:Möglichkeiten und Herausforderungen in der intensivmedizinischen Behandlung von Covid-Infektionen
DESCRIPTION:Dr.med. Fabrizio Esposito, GKH Leitender Arzt Intensiv-/Notfallmedizin und Kardiologie, Einlass erfolgt mit Nachweis eines aktuellen negativen Schnelltests (max. 24 Stunden alt), auch wenn man genesen oder geimpft ist. , Das Kladow Fitness Center hat von 10 – 18 Uhr auf und macht kostenlose Bürgerschnelltests., https://campus.havelhoehe.de/institutionen/gesundheitsforum-havelhoehe/
END:VEVENT
END:VCALENDAR