BEGIN:VCALENDAR
VERSION:2.0
METHOD:PUBLISH
PRODID:https://campus.havelhoehe.de
BEGIN:VEVENT
UID:177670270636176@https://campus.havelhoehe.de
DTSTART:20220407T070000Z
DURATION:PT1H
ORGANIZER:CN=Campus Havelhöhe
LOCATION:Akademie Havelhöhe, Campus Havelhöhe, Kladower Damm 221, 14089 Berlin
SUMMARY:Palliative Care Fallseminar - Modul 2
DESCRIPTION:Die Akademie für Anthroposophische Medizin Havelhöhe bietet ein Fallseminar im Bereich Palliativmedizin an. Gemeinsam entwickeln wir ein anthroposophisch begründetes, vertieftes Verständnis vom Leben, Sterben und Tod.Das Seminar verteilt sich auf drei verlängerte Wochenenden:Modul 2: 7. - 10.4.2022, https://www.akademie-havelhoehe.de/angebot-details/palliative-care-fallseminar.html
END:VEVENT
END:VCALENDAR