BEGIN:VCALENDAR
VERSION:2.0
METHOD:PUBLISH
PRODID:https://campus.havelhoehe.de
BEGIN:VEVENT
UID:177670271721784@https://campus.havelhoehe.de
DTSTART:20220401T133000Z
DURATION:PT1H
ORGANIZER:CN=Campus Havelhöhe
LOCATION:
SUMMARY:Herzschule, Es kommt darauf an, unser Herz wirklich zu öffnen.
DESCRIPTION:Die Havelhöher Herzschule startet mit einem Einführungswochenende am 1./2. April 2022. Im Anschluss findet der geschossene Kurs wöchentlich/ zweiwöchentlich statt.Anmeldung über Jessica Schache:030/ 36501-281. , Start 1.4. bis 15.07.2022.
END:VEVENT
END:VCALENDAR